BEGIN:VCALENDAR
VERSION:2.0
PRODID:-//eventon.com NONSGML v1.0//EN
CALSCALE:GREGORIAN
METHOD:PUBLISH
BEGIN:VEVENT
UID:69e82de366827
DTSTAMP:20260422T020939Z
DTSTART:20210808T100000Z
DTEND:20210808T235000Z
LOCATION:Badwirt Roßholzen Roßholzen 20\,  83122 Samerberg
SUMMARY:Jahreshauptversammlung
DESCRIPTION:Jahreshauptversammlung für alle Vereinsmitglieder beim Badwirt
  in Roßholzen Tagesordnung: 1. Begrüßung 2. Totengedenken 3. Bericht des
  Schriftführers 4. Bericht vom Kassenwart 5. Entlastung der Kassenwarte un
 d der Vorstandschaft 6. Bericht der Jugendleiterin 7. Bericht der Goaßlsch
 nalzer 8. Bericht der Schützenmeisterin 9. Bericht des Vorsitzenden 10. Eh
 rungen 11. Grußworte von Pfarrer[..]\nhttps://www.trachtenverein-rossholze
 n.de/events/jahreshauptversammlung-2/
URL:https://www.trachtenverein-rossholzen.de/events/jahreshauptversammlung-2/
END:VEVENT
END:VCALENDAR