BEGIN:VCALENDAR
VERSION:2.0
PRODID:-//eventon.com NONSGML v1.0//EN
CALSCALE:GREGORIAN
METHOD:PUBLISH
BEGIN:VEVENT
UID:69e5df95ddd6a
DTSTAMP:20260420T081101Z
DTSTART:20190422T133000Z
DTEND:20190422T235000Z
LOCATION:Hundham
SUMMARY:Oarscheib´n
DESCRIPTION:Oarscheib´n\nhttps://www.trachtenverein-rossholzen.de/events/o
 arscheibn/
URL:https://www.trachtenverein-rossholzen.de/events/oarscheibn/
END:VEVENT
END:VCALENDAR