BEGIN:VCALENDAR
VERSION:2.0
PRODID:-//eventon.com NONSGML v1.0//EN
CALSCALE:GREGORIAN
METHOD:PUBLISH
BEGIN:VEVENT
UID:69e5df6838101
DTSTAMP:20260420T081016Z
DTSTART:20190629T190000Z
DTEND:20190629T000000Z
LOCATION:
SUMMARY:Peter & Paul Prozession in Steinkirchen
DESCRIPTION:Peter & Paul Prozession in Steinkirchen\nhttps://www.trachtenve
 rein-rossholzen.de/events/peter-paul-prozession-in-steinkirchen/
URL:https://www.trachtenverein-rossholzen.de/events/peter-paul-prozession-in-steinkirchen/
END:VEVENT
END:VCALENDAR